BEGIN:VCALENDAR
VERSION:2.0
PRODID:-//eventon.com NONSGML v1.0//EN
CALSCALE:GREGORIAN
METHOD:PUBLISH
BEGIN:VEVENT
UID:69e70bbb251c4
DTSTAMP:20260421T053139Z
DTSTART:20220709T130000Z
DTEND:20220709T215000Z
LOCATION:
SUMMARY:Amazons @ Berlin Kobras
DESCRIPTION:Amazons @ Berlin Kobras\nhttps://hamburg-pioneers.de/events/ama
 zons-berlin-kobras/
URL:https://hamburg-pioneers.de/events/amazons-berlin-kobras/
END:VEVENT
END:VCALENDAR